BEGIN:VCALENDAR
VERSION:2.0
PRODID:-//Punto Dental Academy - ECPv6.11.2.1//NONSGML v1.0//EN
CALSCALE:GREGORIAN
METHOD:PUBLISH
X-ORIGINAL-URL:https://puntodental.academy
X-WR-CALDESC:Eventos para Punto Dental Academy
REFRESH-INTERVAL;VALUE=DURATION:PT1H
X-Robots-Tag:noindex
X-PUBLISHED-TTL:PT1H
BEGIN:VTIMEZONE
TZID:America/New_York
BEGIN:DAYLIGHT
TZOFFSETFROM:-0500
TZOFFSETTO:-0400
TZNAME:EDT
DTSTART:20250309T070000
END:DAYLIGHT
BEGIN:STANDARD
TZOFFSETFROM:-0400
TZOFFSETTO:-0500
TZNAME:EST
DTSTART:20251102T060000
END:STANDARD
END:VTIMEZONE
BEGIN:VEVENT
DTSTART;VALUE=DATE:20251128
DTEND;VALUE=DATE:20251201
DTSTAMP:20260424T131336
CREATED:20250519T023214Z
LAST-MODIFIED:20250808T215527Z
UID:1362-1764288000-1764547199@puntodental.academy
SUMMARY:Noviembre 28-29-30
DESCRIPTION:Realizamos talleres intensivos presenciales en Ecuador\, donde aprenderás a formar dientes en plastilina con acompañamiento directo\, materiales incluidos\, y certificado físico.\nPor favor\, activa JavaScript en tu navegador para completar este formulario.Por favor\, activa JavaScript en tu navegador para completar este formulario.Nombre *Correo electrónico *		\n			Teléfono electrónico Nombre\n			\n		\n		Teléfono  *Reservar
URL:https://puntodental.academy/event/capacitate-presencialmente/
LOCATION:Latacunga\, Sánchez de Orellana y Ángel Subía\, Latacunga\, Cotopaxi\, Ecuador
ATTACH;FMTTYPE=image/jpeg:https://puntodental.academy/wp-content/uploads/2025/05/WhatsApp-Image-2025-08-08-at-16.50.54-1.jpeg
END:VEVENT
END:VCALENDAR